BEGIN:VCALENDAR
VERSION:2.0
PRODID:-//ACT-U - ECPv4.8.1//NONSGML v1.0//EN
CALSCALE:GREGORIAN
METHOD:PUBLISH
X-WR-CALNAME:ACT-U
X-ORIGINAL-URL:https://act-u.com
X-WR-CALDESC:Eventi per ACT-U
BEGIN:VEVENT
DTSTART;VALUE=DATE:20250921
DTEND;VALUE=DATE:20250922
DTSTAMP:20260421T140953
CREATED:20250515T162253Z
LAST-MODIFIED:20250515T162253Z
UID:2687-1758412800-1758499199@act-u.com
SUMMARY:Fiera dell'antiquariato\, arte e collezionismo\, Mendrisio
DESCRIPTION:Nel nucleo storico di Mendrisio \n
URL:https://act-u.com/event/fiera-dellantiquariato-arte-e-collezionismo-mendrisio/
END:VEVENT
END:VCALENDAR